BEGIN:VCALENDAR
VERSION:2.0
PRODID:-//Anaïs Virg - ECPv6.0.2//NONSGML v1.0//EN
CALSCALE:GREGORIAN
METHOD:PUBLISH
X-WR-CALNAME:Anaïs Virg
X-ORIGINAL-URL:https://anaisvirg.com
X-WR-CALDESC:Events for Anaïs Virg
REFRESH-INTERVAL;VALUE=DURATION:PT1H
X-Robots-Tag:noindex
X-PUBLISHED-TTL:PT1H
BEGIN:VTIMEZONE
TZID:Europe/Zurich
BEGIN:DAYLIGHT
TZOFFSETFROM:+0100
TZOFFSETTO:+0200
TZNAME:CEST
DTSTART:20230326T010000
END:DAYLIGHT
BEGIN:STANDARD
TZOFFSETFROM:+0200
TZOFFSETTO:+0100
TZNAME:CET
DTSTART:20231029T010000
END:STANDARD
END:VTIMEZONE
BEGIN:VEVENT
DTSTART;VALUE=DATE:20230128
DTEND;VALUE=DATE:20230213
DTSTAMP:20260423T163237
CREATED:20220716T092046Z
LAST-MODIFIED:20220716T092046Z
UID:29129-1674864000-1676246399@anaisvirg.com
SUMMARY:Galerie La Primaire
DESCRIPTION:Vernissage le samedi 28 janvier à 11h
URL:https://anaisvirg.com/event/galerie-la-primaire/
LOCATION:Galerie La Primaire\, Chem. de la Colombe 7\, Conches\, 1231\, Suisse
CATEGORIES:Exposition
END:VEVENT
END:VCALENDAR